BEGIN:VCALENDAR
VERSION:2.0
PRODID:-//Tampereen Reumayhdistys ry//NONSGML kigkonsult.se iCalcreator 2.3
 0.10//
CALSCALE:GREGORIAN
METHOD:PUBLISH
UID:f24bab03-aa3b-4201-8339-45320f245d76
X-WR-CALNAME:iCagenda
X-WR-CALDESC:Event Management Extension for Joomla!
X-WR-RELCALID:3E26604A-50F4-4449-8B3E-E4F4932D05B5
X-WR-TIMEZONE:Europe/Helsinki
BEGIN:VTIMEZONE
TZID:Europe/Helsinki
BEGIN:STANDARD
TZNAME:EET
DTSTART:20251026T040000
TZOFFSETFROM:+0300
TZOFFSETTO:+0200
RDATE:20261025T040000
END:STANDARD
BEGIN:DAYLIGHT
TZNAME:EEST
DTSTART:20260329T030000
TZOFFSETFROM:+0200
TZOFFSETTO:+0300
RDATE:20270328T030000
END:DAYLIGHT
END:VTIMEZONE
BEGIN:VEVENT
UID:63022bd6-19ae-4203-bddc-061ba530e913
DTSTAMP:20260421T152153Z
CATEGORIES:Kokous
CLASS:PUBLIC
DESCRIPTION;ALTREP="CID:<FFFF__=0ABBE548DFE235B58f9e8a93d@coffeebean.com>":
 Tampereen Reumayhdistys ry:n KEVÄTKOKOUS pidetään maanantaina 27.4.2026 kl
 o 17 yhdistyksen tiloissa\, Itsenäisyydenkatu 3 lh 5 (2.kerros).\nKokoukse
 ssa esillä sääntömääräiset kevätkokousasiat\, Reumaliiton liittovaaleja 20
 26 koskevat asiat sekä hallituksen täydentäminen varajäsenellä.\nTervetulo
 a!\nHallitus
DTSTART:20260427T140000Z
DTEND:20260427T153000Z
GEO:00;0
LOCATION:Tampereen Reumayhdistyksen tilat
ORGANIZER:
SEQUENCE:1
SUMMARY:Yhdistyksen kevätkokous
TRANSP:OPAQUE
URL:https://tampereenreumayhdistys.fi/tapahtumat/116-yhdistyksen-kev%C3%A4t
 kokous-5/2026-04-27-17-00
END:VEVENT
END:VCALENDAR
